BEGIN:VCALENDAR
VERSION:2.0
PRODID:-//eventon.com NONSGML v1.0//EN
BEGIN:VEVENT
UID:69e5e2e79cc15
DTSTAMP:20260420T082511
DTSTART:20240806T183000Z
DTEND:20240806T200000Z
LOCATION:
SUMMARY:Midweek Service
DESCRIPTION: Midweek Service | Tuesday | 6:30 PM - 6:30 PM
END:VEVENT
END:VCALENDAR